BEGIN:VCALENDAR
VERSION:2.0
PRODID:-//THD Veranstaltungen//th-deg.de//DE
CALSCALE:GREGORIAN
BEGIN:VEVENT
DTSTART:20260503T120000
DTEND:20260503T170000
LOCATION:Technologie Campus Freyung
DTSTAMP:20260503T120000
SUMMARY:Tag der offenen Tür
DESCRIPTION:<p>WISSENSCHAFT FÜR KLEIN UND GROSS<br />
BEIM TAG DER OFFENEN TÜR:</p>

<ul>
	<li>Spannende Laborführungen rund um KI, Robotik und Bionik</li>
	<li>Kinderprogramm: Experimentieren und Forschen mit dem MINT-Team</li>
	<li>Live am Campus: Exoskelett, Roboterhund, Drohnen, 3D-Druck und mehr</li>
	<li>Escape Room und weitere spannende Angebote für die ganze Familie!</li>
</ul>

<p>&nbsp;</p>

UID:a9c6bf380336e4aa51fa3bd94978cafc@th-deg.de
END:VEVENT
END:VCALENDARtzt. Das Unternehmen steht<br />
für kontinuierliche Innovationskraft: Neue Maschinenkonzepte und zukunftsweisende Technologien werden<br />
stetig entwickelt, um Landwirten weltweit leistungsstarke, effiziente und nachhaltige Lösungen zu bieten.<br />
HORSCH hat sich in den vergangenen Jahren vom mittelständischen Familienbetrieb zu einem Global Player mit<br />
starker Marktpräsenz und hoher Exportquote entwickelt.<br />
Im zweiten Teil des Vortrags stehen die Herausforderungen und Chancen der Digitalisierung im Mittelpunkt. Die<br />
Referenten stellen vor, wie HORSCH mit digitalen Applikationen, innovativem Wissensmanagement und modernen<br />
Tools für Endkunden und Händler den Wandel aktiv gestaltet. Der Einsatz digitaler Lösungen ermöglicht es,<br />
Prozesse zu optimieren, Serviceangebote auszubauen und Wissen systematisch verfügbar zu machen. Anhand<br />
ausgewählter Praxisbeispiele wird gezeigt, wie Digitalisierung bei HORSCH gelebt wird und welche neuen Perspektiven<br />
für Kunden, Händler und das Unternehmen selbst dadurch entstehen.<br />
Michael Braun (Head of Global Marketing) und Dr. Maximilian Aurbach (Teamlead Digitalmarketing) führen das<br />
Publikum in einem etwa einstündigen Vortrag durch die Themenbereiche innovative Maschinen und digitale Lösungen<br />
für altbekannte Herausforderungen.<br />
Michael Braun ist selbst Landwirt und leitet das globale Marketing von HORSCH – Die Grundvision im Marketing<br />
von HORSCH ist eine 360° perspektive auf Händler und Endkunde, welches einen eigenen In-House Ansatz hervorgebracht<br />
hat: von Produktmarketing, Marktforschung, Beratung, Schulung, Messe, Content &amp; Digitalisierung<br />
wird alles direkt von HORSCH umgesetzt.<br />
Dr. Maximilian Aurbach verantwortet die globale digitale Ausrichtung des Marketings in Bezug auf Digitalisierungsprojekte,<br />
Prozesse &amp; neuer digitaler Ansätze. Hierbei steht die Transformation der digitalen Landschaft in<br />
Bezug auf Endkunden, Händler und Interner Kollegen zentral im Fokus.</p>

<p><br />
Der Vortrag dauert ca. 45Min - im Anschluss Einladung zum gemeinsamen Abendessen und Austausch</p>

UID:aab98979f12da76d2b7d667bedb9198a@th-deg.de
END:VEVENT
END:VCALENDAR