BEGIN:VCALENDAR
VERSION:2.0
PRODID:-//THD Veranstaltungen//th-deg.de//DE
CALSCALE:GREGORIAN
BEGIN:VEVENT
DTSTART:20260624T083000
DTEND:20260625T150000
LOCATION:Ingolstadt
DTSTAMP:20260624T083000
SUMMARY:Vocatium Messe
DESCRIPTION:Studien- und Ausbildungsmesse<br />\n
UID:41e4221d8cb1240d70e4a0c84561f5c9@th-deg.de
END:VEVENT
END:VCALENDAR