BEGIN:VCALENDAR
VERSION:2.0
PRODID:-//THD Veranstaltungen//th-deg.de//DE
CALSCALE:GREGORIAN
BEGIN:VEVENT
DTSTART:20260316T100000
DTEND:20260316T170000
LOCATION:Campus Deggendorf
DTSTAMP:20260316T100000
SUMMARY:Erstsemestertag Sommersemester 2026
DESCRIPTION:
UID:a67e4389d29a5f55fd225cbd7c9c620e@th-deg.de
END:VEVENT
END:VCALENDAR