BEGIN:VCALENDAR
VERSION:2.0
PRODID:-//THD Veranstaltungen//th-deg.de//DE
CALSCALE:GREGORIAN
BEGIN:VEVENT
DTSTART:20260803T180000
DTEND:20260803T183000
LOCATION:online
DTSTAMP:20260803T180000
SUMMARY:Orientierungssemester an der THD - Onlineinfo
DESCRIPTION:Du hast dein (Fach-)Abi in der Tasche und weißt noch nicht, welcher Studiengang dir liegt? Wie wäre es mit einem Orientierungssemester? Alle Infos dazu bekommst du heute.
UID:ba0beaeb475ac9a1891f2aa17039592f@th-deg.de
END:VEVENT
END:VCALENDAR