BEGIN:VCALENDAR
VERSION:2.0
PRODID:-//THD Veranstaltungen//th-deg.de//DE
CALSCALE:GREGORIAN
BEGIN:VEVENT
DTSTART:20260228T090000
DTEND:20260228T150000
LOCATION:München
DTSTAMP:20260228T090000
SUMMARY:Stuzubi Messe
DESCRIPTION:Studien- und Ausbildungsmesse<br />\n
UID:bd269e0b6b33c74278b4b51b04750272@th-deg.de
END:VEVENT
END:VCALENDAR