BEGIN:VCALENDAR
VERSION:2.0
PRODID:-//THD Veranstaltungen//th-deg.de//DE
CALSCALE:GREGORIAN
BEGIN:VEVENT
DTSTART:20260228T100000
DTEND:20260228T140000
LOCATION:Bamberg
DTSTAMP:20260228T100000
SUMMARY:Studienmesse:BA
DESCRIPTION:Studien- und Ausbildungsmesse<br />\n
UID:0a8950ee071af4c4e4a652be3ac5937d@th-deg.de
END:VEVENT
END:VCALENDAR