BEGIN:VCALENDAR
VERSION:2.0
PRODID:-//THD Veranstaltungen//th-deg.de//DE
CALSCALE:GREGORIAN
BEGIN:VEVENT
DTSTART:20260625T090000
DTEND:20260625T150000
LOCATION:Glashaus
DTSTAMP:20260625T090000
SUMMARY:Drachenbootfest
DESCRIPTION:
UID:1a735c1e272ab651643b5c322f8328b1@th-deg.de
END:VEVENT
END:VCALENDAR